BEGIN:VCALENDAR
VERSION:2.0
PRODID:-//Telfer Schützen - ECPv6.15.20//NONSGML v1.0//EN
CALSCALE:GREGORIAN
METHOD:PUBLISH
X-WR-CALNAME:Telfer Schützen
X-ORIGINAL-URL:https://telfer-schuetzen.at
X-WR-CALDESC:Veranstaltungen für Telfer Schützen
REFRESH-INTERVAL;VALUE=DURATION:PT1H
X-Robots-Tag:noindex
X-PUBLISHED-TTL:PT1H
BEGIN:VTIMEZONE
TZID:Europe/Vienna
BEGIN:DAYLIGHT
TZOFFSETFROM:+0100
TZOFFSETTO:+0200
TZNAME:CEST
DTSTART:20240331T010000
END:DAYLIGHT
BEGIN:STANDARD
TZOFFSETFROM:+0200
TZOFFSETTO:+0100
TZNAME:CET
DTSTART:20241027T010000
END:STANDARD
BEGIN:DAYLIGHT
TZOFFSETFROM:+0100
TZOFFSETTO:+0200
TZNAME:CEST
DTSTART:20250330T010000
END:DAYLIGHT
BEGIN:STANDARD
TZOFFSETFROM:+0200
TZOFFSETTO:+0100
TZNAME:CET
DTSTART:20251026T010000
END:STANDARD
BEGIN:DAYLIGHT
TZOFFSETFROM:+0100
TZOFFSETTO:+0200
TZNAME:CEST
DTSTART:20260329T010000
END:DAYLIGHT
BEGIN:STANDARD
TZOFFSETFROM:+0200
TZOFFSETTO:+0100
TZNAME:CET
DTSTART:20261025T010000
END:STANDARD
END:VTIMEZONE
BEGIN:VEVENT
DTSTART;VALUE=DATE:20250510
DTEND;VALUE=DATE:20250511
DTSTAMP:20260420T153311
CREATED:20241127T070141Z
LAST-MODIFIED:20241127T070141Z
UID:10772-1746835200-1746921599@telfer-schuetzen.at
SUMMARY:Bundesversammlung – 75 Jahre BTSK und 50 Jahre Alpenregion
DESCRIPTION:Wir haben die würdevolle Aufgabe die Ehrenkompanie bei diesem Doppeljubiläum zu stellen. \nDetails folgen… \nTeilen:
URL:https://telfer-schuetzen.at/termine/bundesversammlung-75-jahre-btsk-und-50-jahre-alpenregion/
LOCATION:Congress Innsbruck\, Rennweg 3\, Innsbruck\, 6020\, Österreich
END:VEVENT
END:VCALENDAR